BEGIN:VCALENDAR
VERSION:2.0
PRODID:-//ZGZ CONCIERTOS - ECPv6.15.17.1//NONSGML v1.0//EN
CALSCALE:GREGORIAN
METHOD:PUBLISH
X-WR-CALNAME:ZGZ CONCIERTOS
X-ORIGINAL-URL:https://zgzconciertos.com
X-WR-CALDESC:Eventos para ZGZ CONCIERTOS
REFRESH-INTERVAL;VALUE=DURATION:PT1H
X-Robots-Tag:noindex
X-PUBLISHED-TTL:PT1H
BEGIN:VTIMEZONE
TZID:Europe/Madrid
BEGIN:DAYLIGHT
TZOFFSETFROM:+0100
TZOFFSETTO:+0200
TZNAME:CEST
DTSTART:20250330T010000
END:DAYLIGHT
BEGIN:STANDARD
TZOFFSETFROM:+0200
TZOFFSETTO:+0100
TZNAME:CET
DTSTART:20251026T010000
END:STANDARD
BEGIN:DAYLIGHT
TZOFFSETFROM:+0100
TZOFFSETTO:+0200
TZNAME:CEST
DTSTART:20260329T010000
END:DAYLIGHT
BEGIN:STANDARD
TZOFFSETFROM:+0200
TZOFFSETTO:+0100
TZNAME:CET
DTSTART:20261025T010000
END:STANDARD
BEGIN:DAYLIGHT
TZOFFSETFROM:+0100
TZOFFSETTO:+0200
TZNAME:CEST
DTSTART:20270328T010000
END:DAYLIGHT
BEGIN:STANDARD
TZOFFSETFROM:+0200
TZOFFSETTO:+0100
TZNAME:CET
DTSTART:20271031T010000
END:STANDARD
BEGIN:DAYLIGHT
TZOFFSETFROM:+0100
TZOFFSETTO:+0200
TZNAME:CEST
DTSTART:20280326T010000
END:DAYLIGHT
BEGIN:STANDARD
TZOFFSETFROM:+0200
TZOFFSETTO:+0100
TZNAME:CET
DTSTART:20281029T010000
END:STANDARD
END:VTIMEZONE
BEGIN:VEVENT
DTSTART;TZID=Europe/Madrid:20260509T200000
DTEND;TZID=Europe/Madrid:20260509T200000
DTSTAMP:20260420T083715
CREATED:20260215T195327Z
LAST-MODIFIED:20260215T195327Z
UID:52467-1778356800-1778356800@zgzconciertos.com
SUMMARY:Pedro Pastor
DESCRIPTION:9 de mayo en la Sala Lopez a las 20h.\n\n\nConcierto de Pedro Pastor\n\n\nEntradas: 45€ \nVenta De Entradas\n\n Pedro Pastor\nPedro Pastor (Pedro Pastor Guerra\, Madrid\, 1994) es de esos cantautores “de ahora” que no vienen a adornar el mensaje: vienen a decirlo claro y a montarlo con música que se mueve. Independiente\, con una base de canción de autor pero mezclando sin complejos folk\, ritmos latinoamericanos\, hip hop\, rumba y lo que pida la historia\, se ha hecho un nombre por letras con mirada social\, crítica y muy humana\, de las que te remueven y te abrazan a la vez. \nY aquí hay linaje musical (y se nota): es hijo de Luis Pastor y sobrino de Pedro Guerra\, y él mismo lo reconoce como parte de sus raíces y de esa “necesidad” de hacer canciones que también piensan. \nEn directo suele alternar dos formatos: él solo cuando toca ir a lo íntimo… y\, cuando toca fiesta con conciencia\, sale con Pedro Pastor y Los Locos Descalzos (su banda de acompañamiento desde 2015)\, para convertir el bolo en una mezcla de baile\, poesía y reflexión\, con energía de sala y letras para quedarse. \nDe sus trabajos recientes\, “Escorpiano” (2024) es un buen retrato del momento: canciones nacidas en ruta —compuestas en gran parte entre finales de 2022 e inicios de 2023 por distintos lugares de Latinoamérica— con “timbres de ida y vuelta” y hasta un guiño más rock en lo sonoro. Y en 2026 el proyecto celebra década redonda con el álbum “10 locos años descalzos”: 12 canciones revisitadas con nuevos arreglos y colaboraciones\, más una inédita con sabor a salsa para dejar claro que esto sigue andando. \n\n\nGira 2026 — Pedro Pastor y Los Locos Descalzos (fechas anunciadas)\n(“10 Locos Años Descalzos Tour”\, según la agenda oficial de próximas fechas 2026). \nMarzo 2026\n\n\n14/03 — Rivas (Madrid) — Auditorio Pilar Bardem — arranque con ganas\, de los que se cantan. \n\n\n20/03 — Barcelona — La Paloma — sala con historia\, noche para dejarse la voz. \n\n\n21/03 — Tarragona — Sala Zero — formato cercano\, letras a primera fila. \n\n\n27/03 — A Coruña — Teatro Colón — butaca… y corazón en alto. \n\n\n28/03 — A Estrada — Teatro Principal — de los bolos que suenan a casa. \n\n\n29/03 — Mos — Sala Rebullón — energía de sala\, sin filtro. \n\n\nAbril 2026\n\n\n10/04 — Sevilla — Sala Malandar — Sevilla siempre aprieta bonito. \n\n\n11/04 — Badajoz — Off Cultura — noche para cantar y pensar. \n\n\n12/04 — Trebujena — Teatro José Manuel Valderas — bolo con aroma especial. \n\n\n17/04 — Lleida — Café del Teatre — directazo con calor de sala. \n\n\n18/04 — Girona — La Mirona 2 — ritmo y mensaje\, bien arriba. \n\n\n24/04 — Murcia — REM — Murcia lo vive fuerte. \n\n\n25/04 — Elche — Llotja — parada fina\, de escuchar y corear. \n\n\n30/04 — Cáceres — Extremúsika — versión festival\, a lo grande. \n\n\nMayo 2026\n\n\n08/05 — Cuenca — Auditorio José Luis Perales — nombre perfecto para esta película. \n\n\n09/05 — Zaragoza — Sala López — Zaragoza\, apuntad: aquí se viene a cantar fuerte. \n\n\n22/05 — Logroño — Sala Fundición — noche de sala\, pegada y letra. \n\n\n23/05 — Vitoria-Gasteiz — Sala Kubik — repertorio para ir de menos a más. \n\n\n29/05 — León — El Gran Café — clásico de ruta\, garantía. \n\n\n30/05 — Oviedo — Sala Tribeca — Asturias\, a coro limpio. \n\n\nJunio 2026\n\n\n05/06 — Menorca — Es Claustre — brisa y canciones que entran solas. \n\n\n06/06 — Mallorca — Es Gremi — bolo para salir con la cabeza girando. \n\n\nJulio 2026\n\n\n04/07 — Préjano — Moradillos Fest — verano\, polvo y alegría. \n\n\n08/09/10 — Gandia — Pirata Beach — festival en modo “todo el mundo arriba”. \n\n\nOctubre 2026\n\n\n16/10 — Alicante — Sala Stereo — vuelta otoñal\, sala y cercanía. \n\n\n17/10 — Valencia — Sala Jerusalem — Valencia a cantar verdades. \n\n\n23/10 — Málaga — La Cochera Cabaret — Málaga\, bolo con sabor. \n\n\n24/10 — Granada — Planta Baja — Granada\, fuego lento y final arriba. \n\n\nNoviembre 2026\n\n\n06/11 — Palencia — Universonoro — de los que se disfrutan cerca. \n\n\n07/11 — Donostia (San Sebastián) — Doka — Donostia siempre elegante. \n\n\n08/11 — Bilbo (Bilbao) — Kafe Antzokia — Bilbao\, punch asegurado. \n\n\n20/11 — Gran Canaria — Sala Alboroto — cierre canario con ganas. \n\n\n21/11 — Tenerife — recinto por confirmar — ojo a la actualización final.
URL:https://zgzconciertos.com/concierto/pedro-pastor/
LOCATION:Sala López\, Calle de Sixto Celorrio\, 2\, Zaragoza\, Zaragoza\, 50015\, España
CATEGORIES:Sala López
ATTACH;FMTTYPE=image/jpeg:https://zgzconciertos.com/wp-content/uploads/2026/02/pedro-pastor.jpg
END:VEVENT
BEGIN:VEVENT
DTSTART;TZID=Europe/Madrid:20260522T210000
DTEND;TZID=Europe/Madrid:20260523T210000
DTSTAMP:20260420T083715
CREATED:20250602T161604Z
LAST-MODIFIED:20250602T161604Z
UID:51658-1779483600-1779570000@zgzconciertos.com
SUMMARY:Dani Martín
DESCRIPTION:22 y 23 de mayo en Pabellón Príncipe Felipe a las 21h.\n\n\nConcierto de Dani Martín\n\n\nEntradas: 43€ \n\nVenta De Entradas\nNacido el 19 de febrero de 1977\, Dani Martin es uno de los cantantes más populares y comercialmente rentables del panorama musical de nuestro país. Conocido por haber sido cantante y líder de El Canto de el Loco durante 16 años\, este compositor\, cantante y actor ha seguido después una trayectoria en solitario con un notable éxito de ventas. \nAunque su carrera comenzó como actor teatral y cómico\, Dani Martín saltó a la fama a mediados de los años 90 cuando decidió formar su propio grupo de pop rock. Rápidamente\, El Canto de el Loco se convirtió en todo un éxito mediático que llegó a vender hasta un millón de copias de sus discos y a generar uno de los fenómenos de fans más destacados de la década en España. \nDespués de cinco exitosos discos de estudio con su banda\, el madrileño decidió comenzar una carrera en solitario en el año 2010\, en la cual refleja su madurez artística y unas letras mucho más elaboradas. Desde entonces\, ha publicado dos álbumes\, colaborado con artistas como Tony Bennett o Miguel Bosé y  agotado entradas en los recintos más importantes del país.
URL:https://zgzconciertos.com/concierto/dani-martin/
LOCATION:Pabellón Príncipe Felipe\, Av. Cesáreo Alierta\, 120\, Zaragoza\, Zaragoza\, España
CATEGORIES:Pabellón Principe Felipe
ATTACH;FMTTYPE=image/jpeg:https://zgzconciertos.com/wp-content/uploads/2025/06/dani-martin.jpg
END:VEVENT
BEGIN:VEVENT
DTSTART;TZID=Europe/Madrid:20260626T210000
DTEND;TZID=Europe/Madrid:20260627T220000
DTSTAMP:20260420T083715
CREATED:20260215T200504Z
LAST-MODIFIED:20260215T200632Z
UID:52471-1782507600-1782597600@zgzconciertos.com
SUMMARY:Iván Ferreiro
DESCRIPTION:26 y 27 de junio en el Pabellón de Deportes Príncipe Felipe a las 21h.\n\n\nConcierto Iván Ferreiro Hoy x Ayer – 35 aniversario\, desde Piratas hasta hoy\n\n\nEntradas: 45€ \nVenta De Entradas\n\nIván Ferreiro Hoy x Ayer – 35 aniversario\, desde Piratas hasta hoy\nSi hablamos de indie español con colmillo y corazón\, aparece Iván Ferreiro. Gallego\, cantante y compositor\, con esa voz que suena a verdad incluso cuando juega con lo surrealista\, Ferreiro es de los pocos que han sabido hacer carrera larga sin perder personalidad: primero al frente de Los Piratas (13 años como líder y principal compositor) y después con una etapa en solitario que ha ido sumando himnos\, discos y directos con aura propia. \nCuando Los Piratas se despiden (2003)\, él no “reinicia”: se reinventa. Empieza tocando en Vigo con su hermano Amaro Ferreiro\, construyendo repertorio y público casi a base de “pasad y escuchad”\, y de ahí sale el primer golpe grande en solitario: Canciones para el tiempo y la distancia (2005)\, que lo coloca como autor mayor de su generación. \nDesde entonces\, lo suyo ha sido una carrera de fondo: letras afiladas\, pop-rock con giros\, y esa capacidad de convertir una frase en un estribillo que te acompaña años. Y por eso este aniversario tiene sentido: no es “mirar atrás”\, es poner el cancionero encima de la mesa y celebrarlo como se merece. \n\nQué es “Hoy x Ayer” (y por qué pinta a concierto grande)\n“Hoy x Ayer” es la gira 35 aniversario en la que vas a escuchar sus mejores canciones desde Los Piratas hasta hoy: un repaso pensado como “balance” de toda su trayectoria. En el propio texto de la gira se habla de 35 años de canciones\, 12 discos de estudio y centenares de conciertos concentrados en un directo que quiere ser más cercano y centrado en la voz y las canciones. \n\nPistas de repertorio (lo que se está comentando del setlist)\nHay una parte muy chula de este aniversario: se está “dibujando” el repertorio con recomendaciones de otros artistas (como Enrique Bunbury\, Loquillo\, Miguel Ríos\, León Benavente\, etc.). Y entre los temas que salen en esa conversación aparecen títulos como “Años 80”\, “El equilibrio es imposible”\, “Pájaro Azul”\, “Extrema pobreza”\, “Eme”\, “Casa” o “Las trincheras de la cultura pop” (con la idea de armar un viaje representativo por etapas). Ojo: esto puede variar noche a noche\, pero marca bastante el espíritu de la gira. \nGira 2026 — fechas confirmadas (oficial)\n\n\n08 mayo 2026 — Bilbao — Bilbao Arena Miribilla \n\n\n09 mayo 2026 — A Coruña — Coliseum \n\n\n14 mayo 2026 — Barcelona — Sant Jordi Club \n\n\n23 mayo 2026 — Gijón — Gijón Arena \n\n\n29 mayo 2026 — Murcia — Plaza de Toros \n\n\n30 mayo 2026 — Valencia — Jardines de Viveros \n\n\n06 junio 2026 — Sevilla — Cartuja Center CITE \n\n\n20 junio 2026 — Salamanca — Enjoy! Multiusos \n\n\n26 junio 2026 — Zaragoza — Sala Multiusos (Auditorio de Zaragoza) — 21:00 \n\n\n20 septiembre 2026 — Madrid — Movistar Arena — apertura 19:30 / inicio 21:00
URL:https://zgzconciertos.com/concierto/ivan-ferreiro/
LOCATION:Pabellón Príncipe Felipe\, Av. Cesáreo Alierta\, 120\, Zaragoza\, Zaragoza\, España
CATEGORIES:Pabellón Principe Felipe
ATTACH;FMTTYPE=image/jpeg:https://zgzconciertos.com/wp-content/uploads/2026/02/ivan-ferreiro.jpg
END:VEVENT
BEGIN:VEVENT
DTSTART;TZID=Europe/Madrid:20261008T220000
DTEND;TZID=Europe/Madrid:20261009T230000
DTSTAMP:20260420T083715
CREATED:20260216T103205Z
LAST-MODIFIED:20260216T103825Z
UID:52486-1791496800-1791586800@zgzconciertos.com
SUMMARY:Hard GZ
DESCRIPTION:8 y 9 de octubre en el Auditorio a las 20h.\n\n\nConcierto de Hard GZ\n\n\nEntradas: 30€ \nVenta De Entradas\n\nHard GZ – LaCosta Tour — Gira 2026/2027\nHard GZ (nombre real: Pedro Ruibal Iglesias) es un rapero urbano y artista de hip-hop y rap español\, nacido en Vigo (Galicia) en 1995 y criado en A Coruña. Comenzó a rapear desde muy joven\, montando su propio estudio casero a los 14 años y formando parte del colectivo Urban Style Crew en sus inicios. \nSu estilo combina letras crudas y directas con crítica social\, referencias a la vida en la calle y una mezcla de hip-hop con elementos del trap y la cultura urbana. A lo largo de su carrera ha publicado varios proyectos y colaborado con otros artistas del ámbito urbano\, construyendo una base de seguidores sólida tanto en España como en otros países de habla hispana. \nHard GZ también ha sido cofundador del sello independiente La Utopía del Norte\, donde ha desarrollado gran parte de su música y estilo propio. \n\n\nLaCosta Tour — Gira 2026/2027\nHard GZ está realizando una gira extensa por España llamada LaCosta Tour\, conectada con el lanzamiento de su último álbum “LACOSTA II” (diciembre de 2025). \n️ Fechas confirmadas (2026-2027)\n\n\n24-25 jul 2026 – A Coruña (Morriña Fest) \n\n\n8 oct 2026 – Zaragoza\, Sala Oasis \n\n\n9 oct 2026 – Zaragoza\, Sala Oasis \n\n\n7 nov 2026 – Mislata (Valencia)\, Sala Repvblicca \n\n\n20-21 nov 2026 – Murcia\, Sala Mamba \n\n\n10-11 dic 2026 – Bilbao\, Sala Santana 27 \n\n\n23 ene 2027 – Barcelona\, Sala Razzmatazz 1 \n\n\n27 feb 2027 – Lugo\, Sala Tebras (nueva fecha añadida) \n\n\n6 mar 2027 – Sevilla\, Sala Pandora \n\n\n13 mar 2027 – Granada\, Sala Industrial Copera \n\n\nLa gira abarca ciudades grandes y salas emblemáticas de la escena urbana española y se espera que continúe con más fechas según la demanda.
URL:https://zgzconciertos.com/concierto/hard-gz/
LOCATION:Oasis\, Basilio Boggiero\, 28\, Zaragoza\, Zaragoza\, 50003\, España
CATEGORIES:Oasis
ATTACH;FMTTYPE=image/jpeg:https://zgzconciertos.com/wp-content/uploads/2026/02/hard-gz.jpg
END:VEVENT
BEGIN:VEVENT
DTSTART;TZID=Europe/Madrid:20261212T203000
DTEND;TZID=Europe/Madrid:20261212T203000
DTSTAMP:20260420T083715
CREATED:20260215T201713Z
LAST-MODIFIED:20260215T202008Z
UID:52475-1797107400-1797107400@zgzconciertos.com
SUMMARY:Bunbury
DESCRIPTION:12 de diciembre en el Príncipe Felipe a las 20:30h.\n\n\nConcierto de Bunbury\n\n\nEntradas: 55€ \nVenta De Entradas\n\nEnrique Bunbury \nSi dices Bunbury\, dices voz con personalidad\, canción grande y cambio constante. Enrique Bunbury es cantante\, compositor\, músico y productor\, y está en ese club de artistas que no se repiten: va saltando de piel en piel\, explorando terrenos como cabaret\, blues\, bolero\, cumbia\, electro\, roots y rock alternativo\, siempre con su sello. \nAntes de todo eso\, fue el frontman de Héroes del Silencio\, una de las bandas más importantes de España y Latinoamérica en los 80 y 90\, y desde ahí se ha construido una carrera larga (más de 35 años) con discos de estudio\, directos\, giras potentes y premios: por ejemplo\, Latin Grammy por Expectativas como Álbum de Rock del Año (2018). \nY en su etapa reciente ha seguido jugando fuerte: en su propia bio destaca Cuentas Pendientes como su trabajo “más folclórico” hasta ese momento\, justo antes de esta nueva etapa de gira. \n\nLa última gira anunciada: Nuevas Mutaciones Tour 2026\nAquí viene lo que te interesa: “Nuevas Mutaciones Tour 2026” es la gira más reciente que tiene anunciada\, y viene con idea clara: revisar su cancionero (de diferentes etapas) con un show nuevo y una banda grande de diez músicos “con muchas sorpresas”. \nAdemás\, la gira llega pegada a disco nuevo: De un siglo anterior\, con lanzamiento previsto el 17 de abril de 2026\, y con “Creer que se puede creer” como tercer adelanto. \nLa banda (pinta de súper grupo)\nEn el escenario\, Bunbury se rodea de una banda de diez músicos. Entre los nombres publicados están Robert Castellanos (bajo)\, Ana Belén Estaje (violín)\, Ramón Gacías (batería)\, Javier García-Vega (trombón y guitarra española)\, Luismi Huracán (percusiones)\, Jordi Mena (guitarras)\, José Miguel Pérez Sagaste (saxo y acordeón)\, Jorge “Rebe” Rebenaque (piano y Hammond) y Álvaro Suite (guitarra y coros). \n\n\nFechas confirmadas (las 16 paradas)\nAmérica \n\n\n10 oct — Puebla (México) \n\n\n12 oct — CDMX (México) \n\n\n15 oct — CDMX (México) \n\n\n21 oct — Guadalajara (México) \n\n\n26 oct — San José (Costa Rica) \n\n\n29 oct — Bogotá (Colombia) \n\n\n4 nov — Buenos Aires (Argentina) \n\n\n7 nov — Lima (Perú) \n\n\n9 nov — Santiago (Chile) \n\n\n12 nov — Nueva York (EE. UU.) \n\n\n14 nov — Nueva York (EE. UU.) \n\n\n17 nov — Highland\, California (EE. UU.) \n\n\n21 nov — Los Ángeles\, California (EE. UU.) \n\n\nEspaña (diciembre) \n\n\n4 dic — Madrid — Movistar Arena \n\n\n7 dic — Valencia — Roig Arena \n\n\n12 dic — Zaragoza — Pabellón Príncipe Felipe (anunciado como cierre “en casa”)
URL:https://zgzconciertos.com/concierto/bunbury/
LOCATION:Pabellón Príncipe Felipe\, Av. Cesáreo Alierta\, 120\, Zaragoza\, Zaragoza\, España
CATEGORIES:Pabellón Principe Felipe
ATTACH;FMTTYPE=image/webp:https://zgzconciertos.com/wp-content/uploads/2026/02/enrique-bunbury.webp
END:VEVENT
BEGIN:VEVENT
DTSTART;TZID=Europe/Madrid:20270529T200000
DTEND;TZID=Europe/Madrid:20270529T210000
DTSTAMP:20260420T083716
CREATED:20220314T184727Z
LAST-MODIFIED:20260215T191959Z
UID:46191-1811620800-1811624400@zgzconciertos.com
SUMMARY:Los Delinqüentes
DESCRIPTION:29 de mayo en el Auditorio a las 20h.\n\n\nConcierto de Los Delinqüentes\n\n\nEntradas: 45€ \nVenta De Entradas\n\nLos Delinqüentes\nSi dices Jerez de la Frontera\, dices calle\, compás… y dices Los Delinqüentes. El grupo nace en 1998 con Miguel Ángel Benítez “Er Migue” y Marcos del Ojo “El Canijo de Jerez”\, y más adelante se suma Diego Pozo “Er Ratón” para terminar de darle forma a ese universo propio que ellos bautizaron como “garrapatero”. \n¿Y qué es eso de “garrapatero”? Pues una manera de estar en la música y en la vida: lo natural\, lo auténtico\, lo que huele a barrio\, a campo\, a gente de verdad… con la garrapata como símbolo y con un lenguaje lleno de expresiones populares y acento del sur\, sin pedir permiso a nadie. \nMusicalmente\, lo suyo es una fiesta bien armada: flamenco festivo mezclado con rock\, reggae\, funk y lo que haga falta; guitarra flamenca\, cajón\, kazoo… y esa forma de cantar que parece que te está guiñando un ojo mientras te cuenta una historia. Y ojo\, que el nombre del grupo no sale de la nada: lo estilizan a partir de un tema de Veneno (con Kiko Veneno como referencia clarísima en su ADN). \nA principios de los 2000 se convierten en un altavoz generacional\, pero llega el golpe duro: Er Migue fallece el 6 de julio de 2004\, y aquello marca un antes y un después. Aun así\, el “sentimiento garrapatero” no se apaga: queda ahí\, en canciones que siguen sonando a sol\, a amistad y a libertad\, y en una comunidad de gente que los sigue como quien sigue una pandilla. \nY ahora viene lo grande: vuelven a los escenarios tras casi 15 años para celebrar el 25º aniversario de su disco debut\, El sentimiento garrapatero que nos traen las flores\, con una gira muy especial donde tocarán el álbum entero y además se guardan un buen puñado de himnos para rematar la noche. En esta vuelta\, además\, se ha contado públicamente con la idea de “tener a Er Migue presente” de forma visual en pantalla\, y se ha señalado la participación de Manuel Benítez (hermano de Er Migue) junto a El Canijo y Er Ratón en este regreso. \nY un apunte reciente\, porque también forma parte de esta historia: en pleno regreso se ha conocido el fallecimiento de David de la Chica “Davile”\, letrista ligado al universo de Los Delinqüentes y coautor de varias letras muy reconocibles. \nSi quieres resumir lo que son en una frase para radio: Los Delinqüentes no son nostalgia; son “Lorenzo” en la cara\, rumba con duende y estribillos que te devuelven a un sitio bueno. Y en 2026\, eso vuelve a sonar alto. \n\n\nLos Delinqüentes — Gira 2026 (fechas confirmadas)\n\n\nBarcelona — Palau Sant Jordi — 10 abril 2026 \n\n\nValencia — Roig Arena — 17 abril 2026 \n\n\nMadrid — Movistar Arena — 24 abril 2026 (sold out anunciado) \n\n\nBilbao — CUBEC! — 22 mayo 2026 \n\n\nZaragoza — Sala Multiusos del Auditorio — 29 mayo 2026 \n\n\nMurcia — Espacio Norte — 12 junio 2026 \n\n\nSevilla — Icónica Santalucía Sevilla Fest — 14 junio 2026 \n\n\nCádiz — Music Stadium — 4 julio 2026 \n\n\nFuengirola — Marenostrum — 25 julio 2026 \n\n\nMás conciertos Zaragoza
URL:https://zgzconciertos.com/concierto/los-delinquentes/
LOCATION:Auditorio
CATEGORIES:Auditorio
ATTACH;FMTTYPE=image/jpeg:https://zgzconciertos.com/wp-content/uploads/2022/03/LOS-DELINQUENTES.jpg
END:VEVENT
END:VCALENDAR