BEGIN:VCALENDAR
VERSION:2.0
PRODID:-//ZGZ CONCIERTOS - ECPv6.15.17.1//NONSGML v1.0//EN
CALSCALE:GREGORIAN
METHOD:PUBLISH
X-ORIGINAL-URL:https://zgzconciertos.com
X-WR-CALDESC:Eventos para ZGZ CONCIERTOS
REFRESH-INTERVAL;VALUE=DURATION:PT1H
X-Robots-Tag:noindex
X-PUBLISHED-TTL:PT1H
BEGIN:VTIMEZONE
TZID:Europe/Madrid
BEGIN:DAYLIGHT
TZOFFSETFROM:+0100
TZOFFSETTO:+0200
TZNAME:CEST
DTSTART:20250330T010000
END:DAYLIGHT
BEGIN:STANDARD
TZOFFSETFROM:+0200
TZOFFSETTO:+0100
TZNAME:CET
DTSTART:20251026T010000
END:STANDARD
BEGIN:DAYLIGHT
TZOFFSETFROM:+0100
TZOFFSETTO:+0200
TZNAME:CEST
DTSTART:20260329T010000
END:DAYLIGHT
BEGIN:STANDARD
TZOFFSETFROM:+0200
TZOFFSETTO:+0100
TZNAME:CET
DTSTART:20261025T010000
END:STANDARD
BEGIN:DAYLIGHT
TZOFFSETFROM:+0100
TZOFFSETTO:+0200
TZNAME:CEST
DTSTART:20270328T010000
END:DAYLIGHT
BEGIN:STANDARD
TZOFFSETFROM:+0200
TZOFFSETTO:+0100
TZNAME:CET
DTSTART:20271031T010000
END:STANDARD
END:VTIMEZONE
BEGIN:VEVENT
DTSTART;TZID=Europe/Madrid:20260325T200000
DTEND;TZID=Europe/Madrid:20260325T200000
DTSTAMP:20260423T224107
CREATED:20260215T190454Z
LAST-MODIFIED:20260225T070925Z
UID:52458-1774468800-1774468800@zgzconciertos.com
SUMMARY:Miguel Rios
DESCRIPTION:25 de marzo en el Auditorio a las 20h.\n\n\nConcierto de Miguel Ríos – El Último Vals\n\n\nEntradas: 48€ \nVenta De Entradas\n\nMiguel Ríos – El Último Vals\nMiguel Ríos está en ese punto en el que no viene a demostrar nada… viene a celebrarlo. Y lo hace con un título que suena a despedida\, pero en realidad es un guiño con sonrisa: El Último Vals. \nPorque El Último Vals es doble viaje: por un lado\, su nuevo disco (publicado en 2025)\, y por otro\, una gira de teatros con formato cuidado\, cercano y con mucho oficio. En el álbum\, Miguel se apoya en el productor José Nortes y lo graban entero en Black Betty Studios (Madrid)\, con canciones que miran al paso del tiempo sin ponerse dramáticas: más bien con esa lucidez de quien ha vivido mucho… y todavía tiene ganas de cantar. \nY en directo\, la propuesta va a lo esencial: formato electroacústico\, acompañado por cuatro músicos multinstrumentistas\, con ese cruce elegante donde rock y country se dan la mano\, y donde también caben sus clásicos\, claro. No es “un concierto más”: es Miguel Ríos contando su historia con la guitarra cerca y el corazón en primera fila. \nZaragoza\nMiguel Ríos — Sala Mozart (Auditorio de Zaragoza) — miércoles 25 de marzo de 2026\, 20:00.
URL:https://zgzconciertos.com/concierto/miguel-rios-2/
LOCATION:Auditorio
CATEGORIES:Auditorio
ATTACH;FMTTYPE=image/gif:https://zgzconciertos.com/wp-content/uploads/2026/02/MiguelRios.gif
END:VEVENT
END:VCALENDAR