BEGIN:VCALENDAR
VERSION:2.0
PRODID:-//ZGZ CONCIERTOS - ECPv6.15.17.1//NONSGML v1.0//EN
CALSCALE:GREGORIAN
METHOD:PUBLISH
X-ORIGINAL-URL:https://zgzconciertos.com
X-WR-CALDESC:Eventos para ZGZ CONCIERTOS
REFRESH-INTERVAL;VALUE=DURATION:PT1H
X-Robots-Tag:noindex
X-PUBLISHED-TTL:PT1H
BEGIN:VTIMEZONE
TZID:Europe/Madrid
BEGIN:DAYLIGHT
TZOFFSETFROM:+0100
TZOFFSETTO:+0200
TZNAME:CEST
DTSTART:20250330T010000
END:DAYLIGHT
BEGIN:STANDARD
TZOFFSETFROM:+0200
TZOFFSETTO:+0100
TZNAME:CET
DTSTART:20251026T010000
END:STANDARD
BEGIN:DAYLIGHT
TZOFFSETFROM:+0100
TZOFFSETTO:+0200
TZNAME:CEST
DTSTART:20260329T010000
END:DAYLIGHT
BEGIN:STANDARD
TZOFFSETFROM:+0200
TZOFFSETTO:+0100
TZNAME:CET
DTSTART:20261025T010000
END:STANDARD
BEGIN:DAYLIGHT
TZOFFSETFROM:+0100
TZOFFSETTO:+0200
TZNAME:CEST
DTSTART:20270328T010000
END:DAYLIGHT
BEGIN:STANDARD
TZOFFSETFROM:+0200
TZOFFSETTO:+0100
TZNAME:CET
DTSTART:20271031T010000
END:STANDARD
END:VTIMEZONE
BEGIN:VEVENT
DTSTART;TZID=Europe/Madrid:20260307T200000
DTEND;TZID=Europe/Madrid:20260307T200000
DTSTAMP:20260423T192351
CREATED:20260215T191201Z
LAST-MODIFIED:20260225T070906Z
UID:52461-1772913600-1772913600@zgzconciertos.com
SUMMARY:Beret
DESCRIPTION:7 de marzo en el Auditorio a las 20h.\n\n\nConcierto de Beret\n\n\nEntradas: 40€ \nVenta De Entradas\n\nBeret\nBeret (Francisco Javier Álvarez Beret) es Sevilla con el corazón abierto y la letra en primer plano. Nacido el 2 de julio de 1996\, se hizo grande desde lo independiente: temas subidos a plataformas y YouTube\, boca a boca\, y una legión de gente que se enganchó a lo mismo: verdades cantadas sin postureo. \nSu firma está clarísima: pop urbano con balada\, toques de rap y guiños de reggae\, siempre con ese tono íntimo que parece que te lo está contando a ti. Beret no “canta bonito”: canta cerca\, y por eso conecta tanto. \nEn su historia hay himnos que han corrido como la pólvora —y sí\, de esos que cuando suenan\, el público se viene arriba sin pensarlo— y un repertorio construido a base de emoción directa\, de “me pasa”\, de “te pasó”\, de “nos pasó”. \nY la gasolina de esta etapa se llama Lo Bello y lo Roto\, su álbum publicado el 21/11/2025: 13 canciones para mirar la dualidad de frente —lo que brilla y lo que duele— con colaboraciones y un tracklist que ya está dando mucha vida en directo. \nBeret — última gira 2026\nLa gira 2026 nace pegada a Lo Bello y lo Roto con un arranque en teatros en España\, salto internacional por América\, festivales de verano y un extra muy jugoso: primera mini-gira europea en noviembre (Londres\, Dublín\, París y Bruselas\, anunciada por el propio Beret). \nFechas 2026\nTeatros (España)\n\n\n19 ene — La Nucía — Auditori La Nucía — arranque de gira con formato cuidado y dos horas de repertorio. \n\n\n10 feb — Barcelona — Teatro Tívoli — noche de letras a flor de piel. \n\n\n27 feb — Granada — Palacio de Congresos — Granada\, coros asegurados. \n\n\n07 mar — Zaragoza — Auditorio Princesa Leonor — Zaragoza la canta entera\, ya verás. \n\n\n13 mar — Sevilla — Cartuja Center — vuelve a casa cerca\, con el público entregado. \n\n\n16 mar — Madrid — Nuevo Teatro Alcalá (agotado) — Madrid sold out\, sin sorpresa. \n\n\n27 abr — Madrid — Nuevo Teatro Alcalá — segunda vuelta para los que se quedaron fuera. \n\n\nAmérica (mayo)\n\n\n01 may — San Juan (Puerto Rico) — Teatro UPR — arranca el bloque latino con energía. \n\n\n02 may — Miami (USA) — La Scala de Miami — Beret en modo íntimo\, pero internacional. \n\n\n05 may — Santo Domingo (Rep. Dominicana) — Hard Rock Cafe — hits y vibra muy arriba. \n\n\n07 may — Bogotá (Colombia) — Teatro Astor Plaza — Bogotá siempre responde fuerte. \n\n\n08 may — Quito (Ecuador) — Teatro Nacional CCE — noche de emoción fina. \n\n\n10 may — Montevideo (Uruguay) — Montevideo Music Box — concierto de los que se viven cerca. \n\n\n14 may — Santiago (Chile) — Teatro Coliseo — Chile coreando desde el primer tema. \n\n\n15 may — Córdoba (Argentina) — Quality Espacio — Córdoba\, garganta preparada. \n\n\n16 may — Buenos Aires (Argentina) — Teatro Gran Rex — Gran Rex\, noche grande. \n\n\n17 may — Rosario (Argentina) — Bioceres Arena — cierre argentino con abrazo colectivo. \n\n\nFestivales (verano)\n\n\n03 jul — Bilbao — BigSound Festival — repertorio directo al estribillo. \n\n\n18 jul — Pontevedra — BigSound Festival — verano\, hits y móvil en alto. \n\n\n25 jul — Asturias — L’arena Music Festival (La Arena de San Juan) — noche de festival con punch. \n\n\n01 ago — Jerez de la Frontera (Cádiz) — Tío Pepe Festival Jerez — escenario top y ambiente especial. \n\n\n21 ago — Menorca — Festival Ukalari — Beret con brisa mediterránea. \n\n\n04 sep — A Coruña — Recordafest — cierre veraniego con la gente a tope. \n\n\nEuropa (noviembre\, anunciado)\n\n\nNoviembre 2026 — Londres\, Dublín\, París y Bruselas — primera gira europea de su carrera (más detalles cuando salgan fechas exactas). \n\n\nSi quieres\, te lo convierto en texto de locución (una sola pieza: entradilla + bio + “en Zaragoza…” + cierre) con tu rollo de radio\, para que lo leas tal cual en 25–35 segundos.
URL:https://zgzconciertos.com/concierto/beret/
LOCATION:Auditorio
CATEGORIES:Auditorio
ATTACH;FMTTYPE=image/jpeg:https://zgzconciertos.com/wp-content/uploads/2026/02/beret.jpg
END:VEVENT
END:VCALENDAR