BEGIN:VCALENDAR
VERSION:2.0
PRODID:-//ZGZ CONCIERTOS - ECPv6.15.17.1//NONSGML v1.0//EN
CALSCALE:GREGORIAN
METHOD:PUBLISH
X-WR-CALNAME:ZGZ CONCIERTOS
X-ORIGINAL-URL:https://zgzconciertos.com
X-WR-CALDESC:Eventos para ZGZ CONCIERTOS
REFRESH-INTERVAL;VALUE=DURATION:PT1H
X-Robots-Tag:noindex
X-PUBLISHED-TTL:PT1H
BEGIN:VTIMEZONE
TZID:Europe/Madrid
BEGIN:DAYLIGHT
TZOFFSETFROM:+0100
TZOFFSETTO:+0200
TZNAME:CEST
DTSTART:20200329T010000
END:DAYLIGHT
BEGIN:STANDARD
TZOFFSETFROM:+0200
TZOFFSETTO:+0100
TZNAME:CET
DTSTART:20201025T010000
END:STANDARD
BEGIN:DAYLIGHT
TZOFFSETFROM:+0100
TZOFFSETTO:+0200
TZNAME:CEST
DTSTART:20210328T010000
END:DAYLIGHT
BEGIN:STANDARD
TZOFFSETFROM:+0200
TZOFFSETTO:+0100
TZNAME:CET
DTSTART:20211031T010000
END:STANDARD
BEGIN:DAYLIGHT
TZOFFSETFROM:+0100
TZOFFSETTO:+0200
TZNAME:CEST
DTSTART:20220327T010000
END:DAYLIGHT
BEGIN:STANDARD
TZOFFSETFROM:+0200
TZOFFSETTO:+0100
TZNAME:CET
DTSTART:20221030T010000
END:STANDARD
END:VTIMEZONE
BEGIN:VEVENT
DTSTART;TZID=Europe/Madrid:20210523T113000
DTEND;TZID=Europe/Madrid:20210523T130000
DTSTAMP:20260422T181449
CREATED:20210517T062108Z
LAST-MODIFIED:20210517T064919Z
UID:43945-1621769400-1621774800@zgzconciertos.com
SUMMARY:Santoral DIM 2021 HACKEO A LOS MUSEOS
DESCRIPTION:23 de mayo en el Museo del Foro de Caesaraugusta a las 11:30\, a las 12:15 y a las 13:00h\n\n\nConcierto de Santoral – DIM 2021. HACKEO A LOS MUSEOS\n\n\nEntrada gratuita PREVIA INSCRIPCIÓN => AQUÍ.\nInscripción\nEn Santoral\, la libertad en su sonido y de sus letras\, mezclada con la idea de fundar una nueva religión en la que la música es dios\, ha dado lugar a un proyecto inclasificable que ellos mismos denominan Pop Surrealista. Con influencias de Beach House\, Buñuel o Gorillaz\, mezclan sonidos del dream y el electro pop con multitud de estilos y sin complejos\, creando verdaderos quebraderos de cabeza a quienes se empeñen en poner etiquetas a su música. En noviembre de 2020 presentan en el ciclo Retina de Zaragoza su último trabajo: una banda sonora para interptretar en directo sobre la película de Buñuel «El Fantasma de La Libertad». Actualmente se encuentran grabando el disco correspondiente a este trabajo junto con Edu Baos\, en los estudios El Cariño. \nEl dúo nace en enero de 2018\, en Zaragoza\, con Elvira L. Vallés (Funkópatas\, Marsala\, Le Vírika & Eduardé) a la voz\, teclados y sintes\, y Alberto Solobera (Almas Mudas\, The Fire Tornados\, Valparadiso\, Limnopolar) a la guitarra y coros. \n«Pecado Sin Espinas» es su primer LP\, publicado el 25 de octubre de 2019.  El disco fue seleccionado por la revista MondoSonoro Aragón como segundo mejor disco del año en Aragón y ha sido nominado a mejor disco del año en los XXI premios de la Música Aragonesa. \nEste año han tocado en el ciclo Bombo y Platillo de Zaragoza y en el primer festival Agustina de Aragón. Para el verano ya han cerrado un concierto en el festival Sonna\, de Huesca. \nInscripciones a través de Eventbrite a partir del domingo\, 16 de mayo\, a las 12 h. \n— \nCada 18 de mayo\, desde el Ayuntamiento de Zaragoza\, celebramos el Día Internacional de los Museos donde te proponemos reimaginar y redescubrir los museos con una semana llena de propuestas: ciclo de cine\, música en vivo\, intervenciones artísticas\, talleres etc.
URL:https://zgzconciertos.com/concierto/santoral-dim-2021-hackeo-a-los-museos/
LOCATION:Museo del Foro de Caesaraugusta\, Plaza la Seo\, 2\, Zaragoza\, Zaragoza\, 50001\, España
CATEGORIES:Museo del Foro de Caesaraugusta
ATTACH;FMTTYPE=image/jpeg:https://zgzconciertos.com/wp-content/uploads/2020/11/santoral.jpg
END:VEVENT
END:VCALENDAR