BEGIN:VCALENDAR
VERSION:2.0
PRODID:-//ZGZ CONCIERTOS - ECPv6.15.17.1//NONSGML v1.0//EN
CALSCALE:GREGORIAN
METHOD:PUBLISH
X-WR-CALNAME:ZGZ CONCIERTOS
X-ORIGINAL-URL:https://zgzconciertos.com
X-WR-CALDESC:Eventos para ZGZ CONCIERTOS
REFRESH-INTERVAL;VALUE=DURATION:PT1H
X-Robots-Tag:noindex
X-PUBLISHED-TTL:PT1H
BEGIN:VTIMEZONE
TZID:Europe/Madrid
BEGIN:DAYLIGHT
TZOFFSETFROM:+0100
TZOFFSETTO:+0200
TZNAME:CEST
DTSTART:20200329T010000
END:DAYLIGHT
BEGIN:STANDARD
TZOFFSETFROM:+0200
TZOFFSETTO:+0100
TZNAME:CET
DTSTART:20201025T010000
END:STANDARD
BEGIN:DAYLIGHT
TZOFFSETFROM:+0100
TZOFFSETTO:+0200
TZNAME:CEST
DTSTART:20210328T010000
END:DAYLIGHT
BEGIN:STANDARD
TZOFFSETFROM:+0200
TZOFFSETTO:+0100
TZNAME:CET
DTSTART:20211031T010000
END:STANDARD
BEGIN:DAYLIGHT
TZOFFSETFROM:+0100
TZOFFSETTO:+0200
TZNAME:CEST
DTSTART:20220327T010000
END:DAYLIGHT
BEGIN:STANDARD
TZOFFSETFROM:+0200
TZOFFSETTO:+0100
TZNAME:CET
DTSTART:20221030T010000
END:STANDARD
END:VTIMEZONE
BEGIN:VEVENT
DTSTART;TZID=Europe/Madrid:20210521T183000
DTEND;TZID=Europe/Madrid:20210521T200000
DTSTAMP:20260422T181454
CREATED:20210517T091113Z
LAST-MODIFIED:20210517T091113Z
UID:43974-1621621800-1621627200@zgzconciertos.com
SUMMARY:Erin Memento DIM 2021 HACKEO A LOS MUSEOS
DESCRIPTION:21 de mayo en el Museo del Teatro de Caesaraugusta a las 18:30\, a las 19:15 y a las 20:00h\n\n\nConcierto de Erin Memento – DIM 2021. HACKEO A LOS MUSEOS\n\n\nEntrada gratuita PREVIA INSCRIPCIÓN => AQUÍ.\nInscripción\nErin Memento es cantante\, compositora e ingeniera de sonido de Zaragoza. Tras haber vivido en Los Angeles y haber pasado por bandas como The Ivories Lilly (2018) a su vuelta a España publica su primer EP solista `La Noche No Es Para Todos’. Ha recibido dos Premios de la Música Aragonesa\, por mejor EP y mejor canción `Billie’. \nEl pasado noviembre publicó No! No! No! No!¿ primer single de su próximo EP y ahora estrena Muerta de Frío. El EP está producido y mezclado por el aclamado Paco Loco en su estudio del Puerto de Santa María\, y verá la luz al completo el próximo junio. Bajo influencias que van desde David Bowie\, PJ Harvey o Phoebe Bridgers\, Erin Memento intenta encontrar su sonido y voz. Melodías de voz que enganchan camufladas bajo letras personales. \nInscripciones a través de Eventbrite a partir del domingo\, 16 de mayo\, a las 12 h. \n \nCada 18 de mayo\, desde el Ayuntamiento de Zaragoza\, celebramos el Día Internacional de los Museos donde te proponemos reimaginar y redescubrir los museos con una semana llena de propuestas: ciclo de cine\, música en vivo\, intervenciones artísticas\, talleres etc. \nZMuseos y el Servicio de Juventud colaboran en este Hackeo a los Museos para conectar los espacios culturales con los nuevos creadores de la ciudad.
URL:https://zgzconciertos.com/concierto/erin-memento-dim-2021-hackeo-a-los-museos/
LOCATION:Museo del Foro de Caesaraugusta\, Plaza la Seo\, 2\, Zaragoza\, Zaragoza\, 50001\, España
CATEGORIES:Museo del Foro de Caesaraugusta
ATTACH;FMTTYPE=image/png:https://zgzconciertos.com/wp-content/uploads/2021/05/Erin-Memento.png
END:VEVENT
END:VCALENDAR