BEGIN:VCALENDAR
VERSION:2.0
PRODID:-//ZGZ CONCIERTOS - ECPv6.15.17.1//NONSGML v1.0//EN
CALSCALE:GREGORIAN
METHOD:PUBLISH
X-WR-CALNAME:ZGZ CONCIERTOS
X-ORIGINAL-URL:https://zgzconciertos.com
X-WR-CALDESC:Eventos para ZGZ CONCIERTOS
REFRESH-INTERVAL;VALUE=DURATION:PT1H
X-Robots-Tag:noindex
X-PUBLISHED-TTL:PT1H
BEGIN:VTIMEZONE
TZID:Europe/Madrid
BEGIN:DAYLIGHT
TZOFFSETFROM:+0100
TZOFFSETTO:+0200
TZNAME:CEST
DTSTART:20260329T010000
END:DAYLIGHT
BEGIN:STANDARD
TZOFFSETFROM:+0200
TZOFFSETTO:+0100
TZNAME:CET
DTSTART:20261025T010000
END:STANDARD
BEGIN:DAYLIGHT
TZOFFSETFROM:+0100
TZOFFSETTO:+0200
TZNAME:CEST
DTSTART:20270328T010000
END:DAYLIGHT
BEGIN:STANDARD
TZOFFSETFROM:+0200
TZOFFSETTO:+0100
TZNAME:CET
DTSTART:20271031T010000
END:STANDARD
BEGIN:DAYLIGHT
TZOFFSETFROM:+0100
TZOFFSETTO:+0200
TZNAME:CEST
DTSTART:20280326T010000
END:DAYLIGHT
BEGIN:STANDARD
TZOFFSETFROM:+0200
TZOFFSETTO:+0100
TZNAME:CET
DTSTART:20281029T010000
END:STANDARD
END:VTIMEZONE
BEGIN:VEVENT
DTSTART;TZID=Europe/Madrid:20270529T200000
DTEND;TZID=Europe/Madrid:20270529T210000
DTSTAMP:20260421T012401
CREATED:20220314T184727Z
LAST-MODIFIED:20260215T191959Z
UID:46191-1811620800-1811624400@zgzconciertos.com
SUMMARY:Los Delinqüentes
DESCRIPTION:29 de mayo en el Auditorio a las 20h.\n\n\nConcierto de Los Delinqüentes\n\n\nEntradas: 45€ \nVenta De Entradas\n\nLos Delinqüentes\nSi dices Jerez de la Frontera\, dices calle\, compás… y dices Los Delinqüentes. El grupo nace en 1998 con Miguel Ángel Benítez “Er Migue” y Marcos del Ojo “El Canijo de Jerez”\, y más adelante se suma Diego Pozo “Er Ratón” para terminar de darle forma a ese universo propio que ellos bautizaron como “garrapatero”. \n¿Y qué es eso de “garrapatero”? Pues una manera de estar en la música y en la vida: lo natural\, lo auténtico\, lo que huele a barrio\, a campo\, a gente de verdad… con la garrapata como símbolo y con un lenguaje lleno de expresiones populares y acento del sur\, sin pedir permiso a nadie. \nMusicalmente\, lo suyo es una fiesta bien armada: flamenco festivo mezclado con rock\, reggae\, funk y lo que haga falta; guitarra flamenca\, cajón\, kazoo… y esa forma de cantar que parece que te está guiñando un ojo mientras te cuenta una historia. Y ojo\, que el nombre del grupo no sale de la nada: lo estilizan a partir de un tema de Veneno (con Kiko Veneno como referencia clarísima en su ADN). \nA principios de los 2000 se convierten en un altavoz generacional\, pero llega el golpe duro: Er Migue fallece el 6 de julio de 2004\, y aquello marca un antes y un después. Aun así\, el “sentimiento garrapatero” no se apaga: queda ahí\, en canciones que siguen sonando a sol\, a amistad y a libertad\, y en una comunidad de gente que los sigue como quien sigue una pandilla. \nY ahora viene lo grande: vuelven a los escenarios tras casi 15 años para celebrar el 25º aniversario de su disco debut\, El sentimiento garrapatero que nos traen las flores\, con una gira muy especial donde tocarán el álbum entero y además se guardan un buen puñado de himnos para rematar la noche. En esta vuelta\, además\, se ha contado públicamente con la idea de “tener a Er Migue presente” de forma visual en pantalla\, y se ha señalado la participación de Manuel Benítez (hermano de Er Migue) junto a El Canijo y Er Ratón en este regreso. \nY un apunte reciente\, porque también forma parte de esta historia: en pleno regreso se ha conocido el fallecimiento de David de la Chica “Davile”\, letrista ligado al universo de Los Delinqüentes y coautor de varias letras muy reconocibles. \nSi quieres resumir lo que son en una frase para radio: Los Delinqüentes no son nostalgia; son “Lorenzo” en la cara\, rumba con duende y estribillos que te devuelven a un sitio bueno. Y en 2026\, eso vuelve a sonar alto. \n\n\nLos Delinqüentes — Gira 2026 (fechas confirmadas)\n\n\nBarcelona — Palau Sant Jordi — 10 abril 2026 \n\n\nValencia — Roig Arena — 17 abril 2026 \n\n\nMadrid — Movistar Arena — 24 abril 2026 (sold out anunciado) \n\n\nBilbao — CUBEC! — 22 mayo 2026 \n\n\nZaragoza — Sala Multiusos del Auditorio — 29 mayo 2026 \n\n\nMurcia — Espacio Norte — 12 junio 2026 \n\n\nSevilla — Icónica Santalucía Sevilla Fest — 14 junio 2026 \n\n\nCádiz — Music Stadium — 4 julio 2026 \n\n\nFuengirola — Marenostrum — 25 julio 2026 \n\n\nMás conciertos Zaragoza
URL:https://zgzconciertos.com/concierto/los-delinquentes/
LOCATION:Auditorio
CATEGORIES:Auditorio
ATTACH;FMTTYPE=image/jpeg:https://zgzconciertos.com/wp-content/uploads/2022/03/LOS-DELINQUENTES.jpg
END:VEVENT
END:VCALENDAR